BEGIN:VCALENDAR
VERSION:2.0
PRODID:-//TestFast - ECPv6.15.20//NONSGML v1.0//EN
CALSCALE:GREGORIAN
METHOD:PUBLISH
X-ORIGINAL-URL:https://test-fast.com
X-WR-CALDESC:Events for TestFast
REFRESH-INTERVAL;VALUE=DURATION:PT1H
X-Robots-Tag:noindex
X-PUBLISHED-TTL:PT1H
BEGIN:VTIMEZONE
TZID:UTC
BEGIN:STANDARD
TZOFFSETFROM:+0000
TZOFFSETTO:+0000
TZNAME:UTC
DTSTART:20240101T000000
END:STANDARD
END:VTIMEZONE
BEGIN:VEVENT
DTSTART;TZID=UTC:20251009T080000
DTEND;TZID=UTC:20251009T170000
DTSTAMP:20260425T033706
CREATED:20250305T135956Z
LAST-MODIFIED:20251122T110230Z
UID:1546-1759996800-1760029200@test-fast.com
SUMMARY:TEST-FAST & STAG: Proud to support Testing Talks Conference 2025!
DESCRIPTION:TEST-FAST & Software Test Automation Group (STAG) is taking another bold step in supporting the Software testing community by partnering with Testing Talks Conference 2025! \n  \n \nIn 2025\, with this collaboration\, we are set to raise the bar by providing the following to our members: \n Hands-on technical & leadership workshops \n Renowned industry speakers \n Engaging interactive sessions \n Exciting games\, awesome prizes & amazing swag  \nWe believe in empowering testers with the right platforms to share\, learn\, and grow together. As a community-driven group\, we’re committed to supporting initiatives that bring testers together to shape the future of quality and automation. \nStay in the loop & register now: https://www.testingtalks.com.au \nFor more information\, updates and exciting offers exclusively for STAG members email us at STAG@test-fast.com \nFor more information about Software Test Automation Group (STAG) : https://test-fast.com/community/stag \n  \n What’s in store? Stay tuned and see for yourself!  \n \n  \nGlimpse of event are captured here: \n\n			\n				\n			\n			\n				\n			\n			\n				\n			\n			\n				\n			\n			\n				\n			\n			\n				\n			\n			\n				\n			\n			\n				\n			\n			\n				\n			\n			\n				\n			\n			\n				\n			\n			\n				\n			\n			\n				\n			\n			\n				\n			\n			\n				\n			\n		\n\n 
URL:https://test-fast.com/event/test-fast-stag-sponsor-testing-talks-conference-2025
LOCATION:melbourne convention center\, 1 Convention Centre Pl\, South Wharf VIC 3006\, Melbourne\, Vic\, 3006\, Australia
END:VEVENT
BEGIN:VEVENT
DTSTART;TZID=UTC:20251030T173000
DTEND;TZID=UTC:20251030T203000
DTSTAMP:20260425T033706
CREATED:20251024T025602Z
LAST-MODIFIED:20251122T124937Z
UID:1714-1761845400-1761856200@test-fast.com
SUMMARY:AI & Intelligent Testers + Reverse Mutation Testing
DESCRIPTION:🚀 Software Test Automation Group [STAG] x Sydney Testers Meetup – October 2025! \n \nWe’re thrilled to announce our next joint meetup with Sydney Testers! 🎉 \nIf you’re based in Sydney (or anywhere online!) — don’t miss this one. \n🗓 Date: Thursday\, 30th Oct 2025 \n🕕 Time: 5:30–8:30 PM AEST \n🎟 RSVP on Meetup: https://www.meetup.com/software-test-automation-group/events/311683483/ \nTalks lined up: \n💡 “The Rise of Intelligent Testers: How AI Is Rewriting the Rules of Automation” – Vikas Joshi (Founder\, Test-Fast & STAG) \n⚙️ “Don’t Trust a Test You’ve Never Seen Fail: Introducing Reverse Mutation Testing” – Leonardo Lanni (Founder\, QA Roots) \nJoin us to explore how AI and Reverse Mutation Testing are shaping the future of testing — and connect with passionate QA professionals across Australia. \n👉 Let’s learn\, share\, and grow together! \n#STAG #TestAutomation #SydneyTesters #Meetup #AIinTesting #QualityAssurance #SoftwareTesting \nRSVP: https://www.meetup.com/software-test-automation-group/events/311683483 \n  \n\n			\n				\n			\n				\n				Vikas Joshi \, Software Test Automation Group\, Sydney Testers\n				\n			\n				\n			\n			\n				\n			\n			\n				\n			\n			\n				\n			\n			\n				\n			\n				\n				Vikas Joshi \, Software Test Automation Group\, Sydney Testers Photos
URL:https://test-fast.com/event/ai-intelligent-testers-reverse-mutation-testing
LOCATION:Level 8\, 231 Elizabeth Street · Sydney · Sydney\, Level 8\, 231 Elizabeth Street · Sydney ·\, Sydney\, NSW\, Australia
ORGANIZER;CN="Vikas Joshi":MAILTO:info@test-fast.com
END:VEVENT
END:VCALENDAR